BEGIN:VCALENDAR
METHOD:PUBLISH
PRODID:www-lms-tf-fau-eu//Events//EN
VERSION:2.0
BEGIN:VEVENT
SUMMARY:Video WKR: Bedingte optimale Filterauswahl in der multispektra
 len Bildgebung für das Kunststoffrecycling
UID:9d8f-42f8-e064-45178@www.lms.tf.fau.eu
DTSTART:20240311T100000Z
DTEND:20240311T110000Z
LOCATION:05.025
DTSTAMP:20260420T171751Z
END:VEVENT
END:VCALENDAR